BEGIN:VCALENDAR
VERSION:2.0
PRODID:-//Positive East - ECPv6.15.20//NONSGML v1.0//EN
CALSCALE:GREGORIAN
METHOD:PUBLISH
X-WR-CALNAME:Positive East
X-ORIGINAL-URL:https://www.positiveeast.org.uk
X-WR-CALDESC:Events for Positive East
REFRESH-INTERVAL;VALUE=DURATION:PT1H
X-Robots-Tag:noindex
X-PUBLISHED-TTL:PT1H
BEGIN:VTIMEZONE
TZID:UTC
BEGIN:STANDARD
TZOFFSETFROM:+0000
TZOFFSETTO:+0000
TZNAME:UTC
DTSTART:20250101T000000
END:STANDARD
END:VTIMEZONE
BEGIN:VEVENT
DTSTART;TZID=UTC:20260527T143000
DTEND;TZID=UTC:20260527T163000
DTSTAMP:20260425T142127
CREATED:20260319T171500Z
LAST-MODIFIED:20260319T171500Z
UID:10004497-1779892200-1779899400@www.positiveeast.org.uk
SUMMARY:Learn My Way - Digital skills sessions
DESCRIPTION:We’ve partnered again with the Good Things Foundation for this third series of sessions to help you gain confidence and skills in using computers. Digital skills & confidence are the foundation of being digitally included. These days you need to know how to use the internet or technology to use public services\, work or stay in touch with loved ones. \nWe’ll be using Good Things Foundation’s Learn My Way resources on their free online platform that helps people gain basic digital skills and build confidence in using the internet.  Come along to any of the sessions – its not a course. You’ll learn at your own pace\, and build on a range of practical online skills across a range of essential topics.  You can find out more here \nWe’ll be guided by Robert Halpin\, Progression Coach from Providence Row\, who has lots of experience in supporting people using Learn My Way. \nFor more information\, contact Mel.Rattue@positiveeast.org.uk
URL:https://www.positiveeast.org.uk/event/learn-my-way-digital-skills-sessions-3/2026-05-27/
ATTACH;FMTTYPE=image/webp:https://www.positiveeast.org.uk/wp-content/uploads/2025/10/learn-my-way-logo.webp
END:VEVENT
END:VCALENDAR