BEGIN:VCALENDAR
VERSION:2.0
PRODID:-//Positive East - ECPv6.15.20//NONSGML v1.0//EN
CALSCALE:GREGORIAN
METHOD:PUBLISH
X-WR-CALNAME:Positive East
X-ORIGINAL-URL:https://www.positiveeast.org.uk
X-WR-CALDESC:Events for Positive East
REFRESH-INTERVAL;VALUE=DURATION:PT1H
X-Robots-Tag:noindex
X-PUBLISHED-TTL:PT1H
BEGIN:VTIMEZONE
TZID:UTC
BEGIN:STANDARD
TZOFFSETFROM:+0000
TZOFFSETTO:+0000
TZNAME:UTC
DTSTART:20240101T000000
END:STANDARD
END:VTIMEZONE
BEGIN:VEVENT
DTSTART;TZID=UTC:20251230T110000
DTEND;TZID=UTC:20251230T140000
DTSTAMP:20260421T025323
CREATED:20251112T135021Z
LAST-MODIFIED:20251124T150246Z
UID:10004286-1767092400-1767103200@www.positiveeast.org.uk
SUMMARY:Holiday Drop-In hours
DESCRIPTION:Positive East will close around 2pm on Christmas Eve – Wednesday 24th December and re-open on Friday 2nd January \nWe’ll be open for drop in between 11am and 2pm on: \n\nMonday 29th December\nTuesday 30th December\nWednesday 31st December\n\nThis will be for emergency referrals and hardship support
URL:https://www.positiveeast.org.uk/event/mid-winter-drop-in-4/2025-12-30/
END:VEVENT
END:VCALENDAR