BEGIN:VCALENDAR
VERSION:2.0
PRODID:-//Positive East - ECPv6.15.20//NONSGML v1.0//EN
CALSCALE:GREGORIAN
METHOD:PUBLISH
X-WR-CALNAME:Positive East
X-ORIGINAL-URL:https://www.positiveeast.org.uk
X-WR-CALDESC:Events for Positive East
REFRESH-INTERVAL;VALUE=DURATION:PT1H
X-Robots-Tag:noindex
X-PUBLISHED-TTL:PT1H
BEGIN:VTIMEZONE
TZID:UTC
BEGIN:STANDARD
TZOFFSETFROM:+0000
TZOFFSETTO:+0000
TZNAME:UTC
DTSTART:20250101T000000
END:STANDARD
END:VTIMEZONE
BEGIN:VEVENT
DTSTART;TZID=UTC:20260121T180000
DTEND;TZID=UTC:20260121T200000
DTSTAMP:20260424T101010
CREATED:20251125T140547Z
LAST-MODIFIED:20251125T143006Z
UID:4366-1769018400-1769025600@www.positiveeast.org.uk
SUMMARY:Rainbow Men: Dealing with cravings
DESCRIPTION:Rainbow Men is our social and support group for gay and bisexual men living with HIV\, including men who have sex with men but don’t identify as gay or bisexual. This group is for you if you are HIV positive and either live in East London or get your HIV care in an East London clinic.  It usually meets on the 3rd Wednesday evening of each month\, but this day and time may vary especially for visits out\, so its best to check these listing regularly.  There’ll be food served around 6.15\, with the activities starting around 6.45 \nThis month\, we’re looking at cravings – whether that’s for chocolate or sex\, chemsex or chips – and what they mean about how our brains and bodies work. We’ll also learn some practical tips about how to redirect our nervous systems when cravings happen. \nWe’re excited that Dr. Mauricio Alvarez from the Royal London Hospital’s E1 Clinic will be joining us to lead us through it \nIf travel or care costs are a barrier to taking part\, please let us know in advance. \nFor more information\, or to tell us you’re coming\, contact Nick.Maxwell@positiveeast.org.uk
URL:https://www.positiveeast.org.uk/event/rainbow-men-dealing-with-cravings/
ATTACH;FMTTYPE=image/webp:https://www.positiveeast.org.uk/wp-content/uploads/2025/11/Maurizio-Alvarez.webp
END:VEVENT
END:VCALENDAR