BEGIN:VCALENDAR
VERSION:2.0
PRODID:-//Positive East - ECPv6.15.20//NONSGML v1.0//EN
CALSCALE:GREGORIAN
METHOD:PUBLISH
X-WR-CALNAME:Positive East
X-ORIGINAL-URL:https://www.positiveeast.org.uk
X-WR-CALDESC:Events for Positive East
REFRESH-INTERVAL;VALUE=DURATION:PT1H
X-Robots-Tag:noindex
X-PUBLISHED-TTL:PT1H
BEGIN:VTIMEZONE
TZID:UTC
BEGIN:STANDARD
TZOFFSETFROM:+0000
TZOFFSETTO:+0000
TZNAME:UTC
DTSTART:20230101T000000
END:STANDARD
END:VTIMEZONE
BEGIN:VEVENT
DTSTART;TZID=UTC:20241219T183000
DTEND;TZID=UTC:20241219T210000
DTSTAMP:20260425T123312
CREATED:20241107T150931Z
LAST-MODIFIED:20241107T151230Z
UID:2801-1734633000-1734642000@www.positiveeast.org.uk
SUMMARY:Rainbow Men goes to the National Theatre
DESCRIPTION:For the festive season\, we’ve organised a special Rainbow Men evening at the National Theatre to see this flamboyant and joyful new production of Oscar Wilde’s classic comedy The Importance Of Being Earnest. \nStarring Olivier Award-winner Sharon D Clarke (Ma Rainey’s Black Bottom; Doctor Who) is joined by Ncuti Gatwa (Doctor Who; Sex Education) and Hugh Skinner (W1A; Mamma Mia! Here We Go Again) in this hilarious story of identity\, impersonation and romance. \nYou can see more details and view the trailer here \nFor more information and to request a free ticket contact Nick.Maxwell@positiveeast.org.uk
URL:https://www.positiveeast.org.uk/event/rainbow-men-goes-to-the-national-theatre/
ATTACH;FMTTYPE=image/webp:https://www.positiveeast.org.uk/wp-content/uploads/2024/11/the-importance-of-being-earnest-2000x2000-1.webp
END:VEVENT
END:VCALENDAR