BEGIN:VCALENDAR
VERSION:2.0
PRODID:-//Positive East - ECPv6.15.20//NONSGML v1.0//EN
CALSCALE:GREGORIAN
METHOD:PUBLISH
X-WR-CALNAME:Positive East
X-ORIGINAL-URL:https://www.positiveeast.org.uk
X-WR-CALDESC:Events for Positive East
REFRESH-INTERVAL;VALUE=DURATION:PT1H
X-Robots-Tag:noindex
X-PUBLISHED-TTL:PT1H
BEGIN:VTIMEZONE
TZID:UTC
BEGIN:STANDARD
TZOFFSETFROM:+0000
TZOFFSETTO:+0000
TZNAME:UTC
DTSTART:20250101T000000
END:STANDARD
END:VTIMEZONE
BEGIN:VEVENT
DTSTART;TZID=UTC:20260513T180000
DTEND;TZID=UTC:20260513T200000
DTSTAMP:20260424T192714
CREATED:20260424T125828Z
LAST-MODIFIED:20260424T125828Z
UID:4894-1778695200-1778702400@www.positiveeast.org.uk
SUMMARY:Together Group: U=U Garden
DESCRIPTION:Together is our social and support group for anyone living with HIV. This group is for you if you are HIV positive and either live in East London or get your HIV care in an East London clinic.  It usually meets on the second Wednesday evening of each month\, but this day and time may vary especially for visits out\, so its best to check these listing regularly. \nThis month\, we’re launching a new project: The U=U Garden. Come along\, find out more\, and get involved. Bring your ideas and we’ll start off the design process.  There’ll be a freshly cooked hot meal served around 6.15 \nIf travel or care costs are a barrier to taking part\, please let us know in advance. \nFor more information\, or to tell us you’re coming\, contact Sarah.Boum-Enock@positiveeast.org.uk
URL:https://www.positiveeast.org.uk/event/together-group-uu-garden/
ATTACH;FMTTYPE=image/webp:https://www.positiveeast.org.uk/wp-content/uploads/2026/03/Together-IG.webp
END:VEVENT
END:VCALENDAR