BEGIN:VCALENDAR
VERSION:2.0
PRODID:-//Positive East - ECPv6.15.20//NONSGML v1.0//EN
CALSCALE:GREGORIAN
METHOD:PUBLISH
X-WR-CALNAME:Positive East
X-ORIGINAL-URL:https://www.positiveeast.org.uk
X-WR-CALDESC:Events for Positive East
REFRESH-INTERVAL;VALUE=DURATION:PT1H
X-Robots-Tag:noindex
X-PUBLISHED-TTL:PT1H
BEGIN:VTIMEZONE
TZID:UTC
BEGIN:STANDARD
TZOFFSETFROM:+0000
TZOFFSETTO:+0000
TZNAME:UTC
DTSTART:20240101T000000
END:STANDARD
END:VTIMEZONE
BEGIN:VEVENT
DTSTART;TZID=UTC:20250924T180000
DTEND;TZID=UTC:20250924T200000
DTSTAMP:20260422T141751
CREATED:20250811T130322Z
LAST-MODIFIED:20250811T130323Z
UID:4072-1758736800-1758744000@www.positiveeast.org.uk
SUMMARY:Women's Group: What Women Want
DESCRIPTION:This month we’re delighted to welcome back Rebecca Mbewe – mentor\, speaker and trainer with long standing experience of working in HIV and lived experience of living well with HIV for over 20 years – to guest host our session about What Women Want. \nOur Women’s Group is a regular social and support group for women living with HIV who either live in East London or if you get your HIV care in an East London clinic.  It usually meet on the 4th Wednesday evening of each month\, but this day and time may vary especially for visits out\, so its best to check these listing regularly. \nIf travel or care costs are a barrier to taking part\, let us know in advance. \nFor more information\, or to tell us you’re coming\, contact Sarah.Boum-Enock by email on sarah.boum-enock@positiveeast.org.uk or call 020 7791 9341
URL:https://www.positiveeast.org.uk/event/womens-group-what-women-want/
ATTACH;FMTTYPE=image/webp:https://www.positiveeast.org.uk/wp-content/uploads/2025/08/bex.webp
END:VEVENT
END:VCALENDAR