BEGIN:VCALENDAR
VERSION:2.0
PRODID:-//Positive East - ECPv6.15.20//NONSGML v1.0//EN
CALSCALE:GREGORIAN
METHOD:PUBLISH
X-WR-CALNAME:Positive East
X-ORIGINAL-URL:https://www.positiveeast.org.uk
X-WR-CALDESC:Events for Positive East
REFRESH-INTERVAL;VALUE=DURATION:PT1H
X-Robots-Tag:noindex
X-PUBLISHED-TTL:PT1H
BEGIN:VTIMEZONE
TZID:UTC
BEGIN:STANDARD
TZOFFSETFROM:+0000
TZOFFSETTO:+0000
TZNAME:UTC
DTSTART:20240101T000000
END:STANDARD
END:VTIMEZONE
BEGIN:VEVENT
DTSTART;TZID=UTC:20251122T110000
DTEND;TZID=UTC:20251122T143000
DTSTAMP:20260425T022744
CREATED:20250718T110117Z
LAST-MODIFIED:20250718T110117Z
UID:3981-1763809200-1763821800@www.positiveeast.org.uk
SUMMARY:World AIDS Day RED RUN
DESCRIPTION:Take Action. Lace UP!  Support Positive East on 22 November at the 2025 World AIDS Day RED RUN.\nwww.redrun.org.uk \nThe RED RUN isn’t a race – it’s a movement. This inclusive event welcomes all ages and abilities\, fostering a spirit of community over competition. It’s your chance to join thousands and make a real difference to support the lives of people living with HIV. \nWind through the scenic paths of Victoria Park alongside walkers\, runners\, and sashayers! As a combined 5k and 10k (chipped timed) route\, the RED RUN offers a rewarding day for everyone. \nIf you have any questions about this year’s World AIDS Day RED RUN please email Ian Montgomery at Positive East via ian.montgomery@positiveeast.org.uk
URL:https://www.positiveeast.org.uk/event/world-aids-day-red-run-2/
LOCATION:Victoria Park\, London\, E9 5EG\, United Kingdom
ATTACH;FMTTYPE=image/webp:https://www.positiveeast.org.uk/wp-content/uploads/2025/07/RR-2025-wht-bkg.webp
END:VEVENT
END:VCALENDAR