BEGIN:VCALENDAR
VERSION:2.0
PRODID:-//Positive East - ECPv6.15.20//NONSGML v1.0//EN
CALSCALE:GREGORIAN
METHOD:PUBLISH
X-WR-CALNAME:Positive East
X-ORIGINAL-URL:https://www.positiveeast.org.uk
X-WR-CALDESC:Events for Positive East
REFRESH-INTERVAL;VALUE=DURATION:PT1H
X-Robots-Tag:noindex
X-PUBLISHED-TTL:PT1H
BEGIN:VTIMEZONE
TZID:UTC
BEGIN:STANDARD
TZOFFSETFROM:+0000
TZOFFSETTO:+0000
TZNAME:UTC
DTSTART:20240101T000000
END:STANDARD
END:VTIMEZONE
BEGIN:VEVENT
DTSTART;TZID=UTC:20251126T183000
DTEND;TZID=UTC:20251126T203000
DTSTAMP:20260424T170028
CREATED:20251025T100323Z
LAST-MODIFIED:20251103T114734Z
UID:4278-1764181800-1764189000@www.positiveeast.org.uk
SUMMARY:World AIDS Day event at Goldsmiths
DESCRIPTION:Join us for an evening of art\, activism\, and community dialogue! \nCreation and HIV: A Contagious Practice is a pre-event for World AIDS Day\, blending art\, activism\, and community dialogue. \n📅 Date & Time: Wednesday\, 26 November\, 6:30 PM\n📍 Venue: Goldsmiths\, University of London – ROOM TO BE CONFIRMED (details will be emailed)\n🎟 Reserve up to 3 free tickets here: Eventbrite Link \nThe evening will feature: \n\nDramatised reading of short plays written by people living with HIV at Positive East\, created during a theatre and creative writing workshop led by activist-researcher Diego Agurto (@diagurto). Professional performers will bring these stories to life.\nTalk by Dan Glass (@danglassmincer)\, pioneer in performance activism and LGBTQ+ rights campaigns\, co-founder of ACT UP London\, and author of United Queerdom and Queer Footprints.\nShort film screening: “Saintmaking”\, a documentary exploring the radical legacy of Derek Jarman\, introduced by Krzysztof Dubicki (@sissy_krissy87)\, queer film curator and activist\, facilitator of the Queer Film Club for Queer Migrants & Queer People of Colour in collaboration with The Love Tank (@thelovetankcic).\nClosing conversation with drinks and food\, facilitated by Diego Agurto (@diagurto) and Valentina López (@vale.lopmon).\n\nAccessibility: Wheelchair accessible venue\, gender-neutral toilets. \nOrganised by Living Museum of Emotional Archives of HIV (@e.archives.hiv). \nClick here to register now: https://www.eventbrite.com/e/creation-and-hiv-a-contagious-practices-tickets-1923313164449?aff=oddtdtcreator
URL:https://www.positiveeast.org.uk/event/world-aids-event-at-goldsmiths/
ATTACH;FMTTYPE=image/webp:https://www.positiveeast.org.uk/wp-content/uploads/2024/12/Red-Ribbon-erin.webp
END:VEVENT
END:VCALENDAR