BEGIN:VCALENDAR
VERSION:2.0
PRODID:-//Positive East - ECPv6.15.20//NONSGML v1.0//EN
CALSCALE:GREGORIAN
METHOD:PUBLISH
X-WR-CALNAME:Positive East
X-ORIGINAL-URL:https://www.positiveeast.org.uk
X-WR-CALDESC:Events for Positive East
REFRESH-INTERVAL;VALUE=DURATION:PT1H
X-Robots-Tag:noindex
X-PUBLISHED-TTL:PT1H
BEGIN:VTIMEZONE
TZID:UTC
BEGIN:STANDARD
TZOFFSETFROM:+0000
TZOFFSETTO:+0000
TZNAME:UTC
DTSTART:20240101T000000
END:STANDARD
END:VTIMEZONE
BEGIN:VEVENT
DTSTART;TZID=UTC:20250314T130000
DTEND;TZID=UTC:20250314T143000
DTSTAMP:20260419T144808
CREATED:20250210T080543Z
LAST-MODIFIED:20250303T124708Z
UID:10003672-1741957200-1741962600@www.positiveeast.org.uk
SUMMARY:Writing for Wellness - with Michelle Croston
DESCRIPTION:We’re delighted to welcome back Michelle Croston for another series of three Writing For Wellness workshops\, exploring themes of: \n\nReflections on what U = U means to you\nReflections on your own resilience (I’m stronger than I realise)\nReflections on your own connections\, community\, support networks\, and ability to help others\n\nThey’re running on 3 Friday afternoons during March\, on the 7th\, 14th\, and 28th – all from 1pm to 2.30 pm \nNo previous writing experience is needed. \nThese sessions were very popular last year\, so do let us know if you want to attend. Some light snacks will be provided. \nFor more information\, or to book a place\, contact Mel Rattue mel.rattue@positiveeast.org.uk or call 020 7791 9346 \nIf travel or care costs are a barrier to taking part\, you need to let us know in advance. See here for details of eligibility
URL:https://www.positiveeast.org.uk/event/writing-for-wellness-with-michelle-croston/2025-03-14/
ATTACH;FMTTYPE=image/webp:https://www.positiveeast.org.uk/wp-content/uploads/2025/02/Writing.webp
END:VEVENT
END:VCALENDAR