BEGIN:VCALENDAR
VERSION:2.0
PRODID:-//Positive East - ECPv6.15.20//NONSGML v1.0//EN
CALSCALE:GREGORIAN
METHOD:PUBLISH
X-WR-CALNAME:Positive East
X-ORIGINAL-URL:https://www.positiveeast.org.uk
X-WR-CALDESC:Events for Positive East
REFRESH-INTERVAL;VALUE=DURATION:PT1H
X-Robots-Tag:noindex
X-PUBLISHED-TTL:PT1H
BEGIN:VTIMEZONE
TZID:UTC
BEGIN:STANDARD
TZOFFSETFROM:+0000
TZOFFSETTO:+0000
TZNAME:UTC
DTSTART:20230101T000000
END:STANDARD
END:VTIMEZONE
BEGIN:VEVENT
DTSTART;TZID=UTC:20241231T110000
DTEND;TZID=UTC:20241231T140000
DTSTAMP:20260425T154835
CREATED:20241105T142953Z
LAST-MODIFIED:20241126T140712Z
UID:10003506-1735642800-1735653600@www.positiveeast.org.uk
SUMMARY:Mid-Winter Drop In
DESCRIPTION:Positive East will close around 2pm on Christmas Eve – Tuesday 24th December and re-open as normal on Thursday 2nd January \nWe’ll be open for drop in between 11am and 2pm on: \n\nFriday 27th December\nMonday 30th December\nTuesday 31st December\n\nThis will be for peer support\, emergency referrals\, and hardship support
URL:https://www.positiveeast.org.uk/event/mid-winter-drop-in-3/
LOCATION:Positive East\, 159 Mile End Road\, London\, E1 4AQ\, United Kingdom
END:VEVENT
END:VCALENDAR