BEGIN:VCALENDAR
VERSION:2.0
PRODID:-//Positive East - ECPv6.15.20//NONSGML v1.0//EN
CALSCALE:GREGORIAN
METHOD:PUBLISH
X-ORIGINAL-URL:https://www.positiveeast.org.uk
X-WR-CALDESC:Events for Positive East
REFRESH-INTERVAL;VALUE=DURATION:PT1H
X-Robots-Tag:noindex
X-PUBLISHED-TTL:PT1H
BEGIN:VTIMEZONE
TZID:UTC
BEGIN:STANDARD
TZOFFSETFROM:+0000
TZOFFSETTO:+0000
TZNAME:UTC
DTSTART:20240101T000000
END:STANDARD
END:VTIMEZONE
BEGIN:VEVENT
DTSTART;TZID=UTC:20250220T080000
DTEND;TZID=UTC:20250228T170000
DTSTAMP:20260423T083806
CREATED:20250123T181537Z
LAST-MODIFIED:20250123T181537Z
UID:10003612-1740038400-1740762000@www.positiveeast.org.uk
SUMMARY:Coming up this February - Second Half
DESCRIPTION:
URL:https://www.positiveeast.org.uk/event/coming-up-this-february-second-half/
ATTACH;FMTTYPE=image/webp:https://www.positiveeast.org.uk/wp-content/uploads/2025/01/Feb-2.webp
END:VEVENT
BEGIN:VEVENT
DTSTART;TZID=UTC:20250221T123000
DTEND;TZID=UTC:20250221T130000
DTSTAMP:20260423T083806
CREATED:20241007T173547Z
LAST-MODIFIED:20260303T164135Z
UID:10001066-1740141000-1740142800@www.positiveeast.org.uk
SUMMARY:Mindfulness meditation
DESCRIPTION:Everybody needs a little time away from the everyday stresses and strains of life. Twice a week\, Andre Smith – Positive East’s Counselling Co-ordinator – leads a 30 minute online mindfulness meditation session. \nThese usually run twice every week on: \n\nTuesdays at 5pm\nFridays at 12.30pm\n\nFor more information on how to join\, please email Andre at andre.smith@positiveeast.org.uk
URL:https://www.positiveeast.org.uk/event/mindfulness-meditation/2025-02-21/
ATTACH;FMTTYPE=image/png:https://www.positiveeast.org.uk/wp-content/uploads/2024/10/head-colour-.png
END:VEVENT
END:VCALENDAR