BEGIN:VCALENDAR
VERSION:2.0
PRODID:-//Positive East - ECPv6.15.20//NONSGML v1.0//EN
CALSCALE:GREGORIAN
METHOD:PUBLISH
X-WR-CALNAME:Positive East
X-ORIGINAL-URL:https://www.positiveeast.org.uk
X-WR-CALDESC:Events for Positive East
REFRESH-INTERVAL;VALUE=DURATION:PT1H
X-Robots-Tag:noindex
X-PUBLISHED-TTL:PT1H
BEGIN:VTIMEZONE
TZID:UTC
BEGIN:STANDARD
TZOFFSETFROM:+0000
TZOFFSETTO:+0000
TZNAME:UTC
DTSTART:20240101T000000
END:STANDARD
END:VTIMEZONE
BEGIN:VEVENT
DTSTART;TZID=UTC:20250401T080000
DTEND;TZID=UTC:20250430T170000
DTSTAMP:20260419T181329
CREATED:20250325T155229Z
LAST-MODIFIED:20250325T155229Z
UID:10003679-1743494400-1746032400@www.positiveeast.org.uk
SUMMARY:April Calendar
DESCRIPTION:
URL:https://www.positiveeast.org.uk/event/april-calendar/
ATTACH;FMTTYPE=image/webp:https://www.positiveeast.org.uk/wp-content/uploads/2025/03/April-2025.webp
END:VEVENT
BEGIN:VEVENT
DTSTART;TZID=UTC:20250401T170000
DTEND;TZID=UTC:20250401T173000
DTSTAMP:20260419T181329
CREATED:20241007T173823Z
LAST-MODIFIED:20260303T155745Z
UID:10001332-1743526800-1743528600@www.positiveeast.org.uk
SUMMARY:Mindfulness meditation
DESCRIPTION:Everybody needs a little time away from the everyday stresses and strains of life. Twice a week\, Andre Smith – Positive East’s Counselling Co-ordinator – leads a 30 minute online mindfulness meditation session. \nThese usually run twice every week on: \n\nTuesdays at 5pm\nFridays at 12.30pm\n\nFor more information on how to join\, please email Andre at andre.smith@positiveeast.org.uk
URL:https://www.positiveeast.org.uk/event/mindfulness-meditation-2/2025-04-01/
END:VEVENT
END:VCALENDAR