BEGIN:VCALENDAR
VERSION:2.0
PRODID:-//Positive East - ECPv6.15.20//NONSGML v1.0//EN
CALSCALE:GREGORIAN
METHOD:PUBLISH
X-ORIGINAL-URL:https://www.positiveeast.org.uk
X-WR-CALDESC:Events for Positive East
REFRESH-INTERVAL;VALUE=DURATION:PT1H
X-Robots-Tag:noindex
X-PUBLISHED-TTL:PT1H
BEGIN:VTIMEZONE
TZID:UTC
BEGIN:STANDARD
TZOFFSETFROM:+0000
TZOFFSETTO:+0000
TZNAME:UTC
DTSTART:20240101T000000
END:STANDARD
END:VTIMEZONE
BEGIN:VEVENT
DTSTART;TZID=UTC:20250614T080000
DTEND;TZID=UTC:20250630T170000
DTSTAMP:20260425T140058
CREATED:20250523T132428Z
LAST-MODIFIED:20250523T132428Z
UID:10003783-1749888000-1751302800@www.positiveeast.org.uk
SUMMARY:June Calendar - 14th to 30th
DESCRIPTION:
URL:https://www.positiveeast.org.uk/event/june-calendar-14th-to-30th/
ATTACH;FMTTYPE=image/webp:https://www.positiveeast.org.uk/wp-content/uploads/2025/05/June-2.webp
END:VEVENT
BEGIN:VEVENT
DTSTART;TZID=UTC:20250619T183000
DTEND;TZID=UTC:20250619T200000
DTSTAMP:20260425T140058
CREATED:20250519T162658Z
LAST-MODIFIED:20250523T074938Z
UID:10003724-1750357800-1750363200@www.positiveeast.org.uk
SUMMARY:Art\, AIDS and Activism with Positive East - Whitechapel Gallery
DESCRIPTION:Join us at the Whitechapel Gallery for this panel talk chronicling the legacies of queer visual cultures\, organising histories\, and how contemporary artists are dialoguing with the past and responding to HIV and AIDS in their work today. \nAlongside the gallery’s new exhibition of the work of Hamad Butt : Apprehensions\, the panel will be posed questions by Positive East’s Dr Renee West and Dr Rageshri Dhairyawan from Barts Health NHS Trust and Queen Mary University.  In this discussion Dominic Johnson\, Ash Kotak\, Prem Sahib\, and Simon Watney will use Hamad Butt’s practice as a starting point to explore how artists have used creativity to interrogate\, reflect\, and agitate around HIV and AIDS. \nBooking is via the Whitechapel Gallery’s website  \n 
URL:https://www.positiveeast.org.uk/event/art-aids-and-activism-with-positive-east-whitechapel-gallery/
ATTACH;FMTTYPE=image/webp:https://www.positiveeast.org.uk/wp-content/uploads/2025/05/Art-AIDS-and-Activism.webp
END:VEVENT
BEGIN:VEVENT
DTSTART;TZID=UTC:20250619T183000
DTEND;TZID=UTC:20250619T210000
DTSTAMP:20260425T140058
CREATED:20250519T165245Z
LAST-MODIFIED:20250611T124011Z
UID:10003725-1750357800-1750366800@www.positiveeast.org.uk
SUMMARY:National HIV Story Trust - Short films screening
DESCRIPTION:You can register for this event\, and get more information\, here \nThe National HIV Story Trust is about filming\, recording and preserving the history of those affected by the AIDS pandemic of the 1980s and 90s. \nThe venue: \nOne Pool Street Cinema\, UCL East Campus: One Pool Street\, London\, E20 2AF \nFor more information\, or to tell us you want to come contact any of the peer support staff or email talktome@positiveeast.org.uk
URL:https://www.positiveeast.org.uk/event/national-hiv-story-trust-short-films-screening/
ATTACH;FMTTYPE=image/webp:https://www.positiveeast.org.uk/wp-content/uploads/2025/05/1.webp
END:VEVENT
END:VCALENDAR