BEGIN:VCALENDAR
VERSION:2.0
PRODID:-//Positive East - ECPv6.15.20//NONSGML v1.0//EN
CALSCALE:GREGORIAN
METHOD:PUBLISH
X-WR-CALNAME:Positive East
X-ORIGINAL-URL:https://www.positiveeast.org.uk
X-WR-CALDESC:Events for Positive East
REFRESH-INTERVAL;VALUE=DURATION:PT1H
X-Robots-Tag:noindex
X-PUBLISHED-TTL:PT1H
BEGIN:VTIMEZONE
TZID:UTC
BEGIN:STANDARD
TZOFFSETFROM:+0000
TZOFFSETTO:+0000
TZNAME:UTC
DTSTART:20250101T000000
END:STANDARD
END:VTIMEZONE
BEGIN:VEVENT
DTSTART;TZID=UTC:20260131T140000
DTEND;TZID=UTC:20260131T210000
DTSTAMP:20260419T145653
CREATED:20251211T144303Z
LAST-MODIFIED:20251216T143916Z
UID:10004322-1769868000-1769893200@www.positiveeast.org.uk
SUMMARY:U=U community quilt stitching party
DESCRIPTION:U=U Quilt Stitching Parties\n\n\nAfter a year of collecting over 1\,300 photographs to celebrate the U=U message\, we’re ready to start stitching! \nPlease join us for one of our stitching parties\, where we’ll come together to add the finishing touch to the three large quilt panels. \nNo experience is necessary\, and all are welcome to attend.  We’ll provide all the supplies and food (we’ll email to request any dietary requirements). \nEmail ian.montgomery@positiveeast.org.uk if you have any questions or need more info. \nWe hope to see you there! \nPlease register via Outsavvy U=U Quilt Stitching Parties Tickets | Multiple Dates @ Mark Ashley Centre\, London | FREE | OutSavvy \nWhat is the U=U community quilt? \nPositive East will create three 2\,030mm x 2\,030mm (6.5′ x 6.5′) quilt panels\, comprised of thousands of selfies from the international community to help celebrate the powerful message of U=U. \nThe individual selfies\, provided from around the world\, will be printed on fabrics then stitched together\, celebrating each individual and their contribution to the U=U movement. \nOverlayed will be the three\, but simple and powerful letters U = U. From far away these letters will be clearly visible\, however as you approach the quilt panels\, the letters will dissolve unfolding a diverse mosaic of individuals from our community. \nThe project is kindly supported by Arts Council England and the BHIVA Laura Waters Community Fund.
URL:https://www.positiveeast.org.uk/event/uu-community-quilt-stitching-party-4/
LOCATION:Positive East\, 159 Mile End Road\, London\, E1 4AQ\, United Kingdom
ATTACH;FMTTYPE=image/webp:https://www.positiveeast.org.uk/wp-content/uploads/2025/12/UU-Stitching-party-01-scaled.webp
END:VEVENT
END:VCALENDAR