BEGIN:VCALENDAR
VERSION:2.0
PRODID:-//Positive East - ECPv6.15.20//NONSGML v1.0//EN
CALSCALE:GREGORIAN
METHOD:PUBLISH
X-ORIGINAL-URL:https://www.positiveeast.org.uk
X-WR-CALDESC:Events for Positive East
REFRESH-INTERVAL;VALUE=DURATION:PT1H
X-Robots-Tag:noindex
X-PUBLISHED-TTL:PT1H
BEGIN:VTIMEZONE
TZID:UTC
BEGIN:STANDARD
TZOFFSETFROM:+0000
TZOFFSETTO:+0000
TZNAME:UTC
DTSTART:20250101T000000
END:STANDARD
END:VTIMEZONE
BEGIN:VEVENT
DTSTART;TZID=UTC:20260205T110000
DTEND;TZID=UTC:20260205T130000
DTSTAMP:20260419T183422
CREATED:20260121T140941Z
LAST-MODIFIED:20260221T115202Z
UID:10004334-1770289200-1770296400@www.positiveeast.org.uk
SUMMARY:Bodywork Physiotherapy
DESCRIPTION:We’re excited to start a new service here at Positive East. To begin with\, it will be available for two hours on the first Thursday of the month and will operate on a drop-in\, first come\, first served basis rather than booked appointments. \nBodywork – Pain and Mobility Management Service at Positive East \nBodywork is a holistic\, hands-on approach to help people who want to move better\, reduce pain or just relax. It combines physiotherapy\, osteopathy and massage to relax your muscles\, joints and promote the body’s natural self healing. \nTreatments are outcome-based\, which means all initial appointments include a short consultation to discuss your condition and your goals. \nThis service is led by Blake (BSc Physio\, MCSP) who is a musculo-skeletal physiotherapist\, with a special interest in chronic pain and spinal dysfunction. He has extensive experience working with HIV associated conditions\, having previously led the Physiotherapy service at Mildmay UK \nAsk any of the peer support staff about this new service
URL:https://www.positiveeast.org.uk/event/bodywork-physiotherapy/2026-02-05/
ATTACH;FMTTYPE=image/webp:https://www.positiveeast.org.uk/wp-content/uploads/2026/01/Blake.webp
END:VEVENT
BEGIN:VEVENT
DTSTART;TZID=UTC:20260205T130000
DTEND;TZID=UTC:20260205T150000
DTSTAMP:20260419T183422
CREATED:20250106T160121Z
LAST-MODIFIED:20251112T135807Z
UID:10003553-1770296400-1770303600@www.positiveeast.org.uk
SUMMARY:Positive Over 50: Lunch
DESCRIPTION:Our monthly lunch group for people living with HIV who either live in any of the East London Boroughs\, or get your HIV care an an East London clinic.  Usually on the first Thursday afternoon of the month\, the January lunch is a week later than usual because of the New Year holidays. \nJoin us for a tasty\, freshly prepared lunch provided by our colleagues from Food Chain. Stay and engage in one of our discussion topics\, hear from guest speakers\, or join in one of our Positive Over 50: Out And About trips to places of interest. Or stay and join in the conversation with old friends and new. \nFor more information contact mina.kakaiya@positiveeast.org.uk
URL:https://www.positiveeast.org.uk/event/positive-over-50-lunch-4/2026-02-05/
ATTACH;FMTTYPE=image/webp:https://www.positiveeast.org.uk/wp-content/uploads/2024/10/Positive-Over-50-sq.webp
END:VEVENT
END:VCALENDAR