BEGIN:VCALENDAR
VERSION:2.0
PRODID:-//Positive East - ECPv6.15.20//NONSGML v1.0//EN
CALSCALE:GREGORIAN
METHOD:PUBLISH
X-WR-CALNAME:Positive East
X-ORIGINAL-URL:https://www.positiveeast.org.uk
X-WR-CALDESC:Events for Positive East
REFRESH-INTERVAL;VALUE=DURATION:PT1H
X-Robots-Tag:noindex
X-PUBLISHED-TTL:PT1H
BEGIN:VTIMEZONE
TZID:UTC
BEGIN:STANDARD
TZOFFSETFROM:+0000
TZOFFSETTO:+0000
TZNAME:UTC
DTSTART:20250101T000000
END:STANDARD
END:VTIMEZONE
BEGIN:VEVENT
DTSTART;TZID=UTC:20260223T130000
DTEND;TZID=UTC:20260223T150000
DTSTAMP:20260420T081108
CREATED:20250704T160929Z
LAST-MODIFIED:20260303T164410Z
UID:10001640-1771851600-1771858800@www.positiveeast.org.uk
SUMMARY:Foodcycle Stepney Green
DESCRIPTION:Every Monday we welcome FoodCycle’s volunteers to use our kitchen and our cafe area to provide a delicious hot lunch.  This is open to anyone living with HIV across London. By cooking with surplus ingredients\, they promote healthy\, sustainable attitudes towards food and its impact on the environment\, and help people to learn more about healthy food. \nLunch is usually served shortly after 1pm.  Lunch is served to your table by FoodCycle volunteers\, so you’ll need to arrive by 1pm. \nFor more information\, visit FoodCycle Stepney Green If you’d like to come along\, contact FoodCycle stepneygreen@foodcycle.org.uk
URL:https://www.positiveeast.org.uk/event/foodcycle-stepney-green-2/2026-02-23/
ATTACH;FMTTYPE=image/webp:https://www.positiveeast.org.uk/wp-content/uploads/2024/10/FCstepney.webp
END:VEVENT
BEGIN:VEVENT
DTSTART;TZID=UTC:20260223T140000
DTEND;TZID=UTC:20260223T160000
DTSTAMP:20260420T081108
CREATED:20260121T130210Z
LAST-MODIFIED:20260123T091938Z
UID:10004330-1771855200-1771862400@www.positiveeast.org.uk
SUMMARY:Art workshop: London memories - Session 2
DESCRIPTION:Join us for this series of 3 art workshops with artist and HIV activist Hera Santos.  These workshops are inspired by the workshop we held as part of the Mayor’s Community Weekend in September\, which was really well attended and people enjoyed so much it over-ran. \nAll three workshops will run on Monday afternoons\, with a gap in between each session for you to continue work on your own if you wish. The 2nd session is on 9th February\, and the 3rd one on 23rd February. \nThe first session planned for 26th January has been postponed\, so the first one is now 9th February\, the second on 23rd February.  We’ll confirm the date of the new 3rd session as soon as it has been arranged \nYou can join for one or all three of these workshops – in which Hera will invite you to match a location with a memory (it could be London\, or anywhere in the world) and reflect on ways to represent your memories using a variety of methods \nContact jack.summerside@positiveeast.org.uk for more information or to register your interest
URL:https://www.positiveeast.org.uk/event/art-workshop-london-memories-3-of-3/
ATTACH;FMTTYPE=image/webp:https://www.positiveeast.org.uk/wp-content/uploads/2025/11/illustrated_map_of_london-scaled.webp
END:VEVENT
END:VCALENDAR