BEGIN:VCALENDAR
VERSION:2.0
PRODID:-//Positive East - ECPv6.15.20//NONSGML v1.0//EN
CALSCALE:GREGORIAN
METHOD:PUBLISH
X-WR-CALNAME:Positive East
X-ORIGINAL-URL:https://www.positiveeast.org.uk
X-WR-CALDESC:Events for Positive East
REFRESH-INTERVAL;VALUE=DURATION:PT1H
X-Robots-Tag:noindex
X-PUBLISHED-TTL:PT1H
BEGIN:VTIMEZONE
TZID:UTC
BEGIN:STANDARD
TZOFFSETFROM:+0000
TZOFFSETTO:+0000
TZNAME:UTC
DTSTART:20230101T000000
END:STANDARD
END:VTIMEZONE
BEGIN:VEVENT
DTSTART;TZID=UTC:20240819T130000
DTEND;TZID=UTC:20240819T150000
DTSTAMP:20260420T210853
CREATED:20240817T143101Z
LAST-MODIFIED:20241007T183047Z
UID:10000003-1724072400-1724079600@www.positiveeast.org.uk
SUMMARY:FoodCycle Stepney Green – Lunch
DESCRIPTION:Every Monday we welcome FoodCycle’s volunteers to use our kitchen and our cafe area to provide a delicious hot lunch.  This is open to anyone living with HIV across London. By cooking with surplus ingredients\, they promote healthy\, sustainable attitudes towards food and its impact on the environment\, and help people to learn more about healthy food. \nLunch is usually served shortly after 1pm.  There’ll be no FoodCycle Lunch on Monday 26th August as Positive East will be closed for the Bank Holiday \nFor more information\, visit FoodCycle Stepney Green If you’d like to come along\, contact FoodCycle stepneygreen@foodcycle.org.uk \nNote: This is a FoodCycle project hosted by Positive East at our building\, and not delivered by Positive East \nDownloadable Poster Stepney Green Poster 1
URL:https://www.positiveeast.org.uk/event/foodcycle-stepney-green-lunch-2/
ATTACH;FMTTYPE=image/png:https://www.positiveeast.org.uk/wp-content/uploads/2024/08/Artboard-1-copy-5@2x.png
END:VEVENT
BEGIN:VEVENT
DTSTART;TZID=UTC:20240812T130000
DTEND;TZID=UTC:20240812T150000
DTSTAMP:20260420T210853
CREATED:20240817T143003Z
LAST-MODIFIED:20240819T104921Z
UID:10000002-1723467600-1723474800@www.positiveeast.org.uk
SUMMARY:FoodCycle Stepney Green – Lunch
DESCRIPTION:Every Monday we welcome FoodCycle’s volunteers to use our kitchen and our cafe area to provide a delicious hot lunch.  This is open to anyone living with HIV across London. By cooking with surplus ingredients\, they promote healthy\, sustainable attitudes towards food and its impact on the environment\, and help people to learn more about healthy food. \nLunch is usually served shortly after 1pm.  There’ll be no FoodCycle Lunch on Monday 26th August as Positive East will be closed for the Bank Holiday \nFor more information\, visit FoodCycle Stepney Green If you’d like to come along\, contact FoodCycle stepneygreen@foodcycle.org.uk \nNote: This is a FoodCycle project hosted by Positive East at our building\, and not delivered by Positive East \nDownloadable Poster Stepney Green Poster 1
URL:https://www.positiveeast.org.uk/event/foodcycle-stepney-green-lunch/
ATTACH;FMTTYPE=image/png:https://www.positiveeast.org.uk/wp-content/uploads/2024/08/Artboard-1-copy-5@2x.png
END:VEVENT
END:VCALENDAR