BEGIN:VCALENDAR
VERSION:2.0
PRODID:-//Positive East - ECPv6.15.20//NONSGML v1.0//EN
CALSCALE:GREGORIAN
METHOD:PUBLISH
X-WR-CALNAME:Positive East
X-ORIGINAL-URL:https://www.positiveeast.org.uk
X-WR-CALDESC:Events for Positive East
REFRESH-INTERVAL;VALUE=DURATION:PT1H
X-Robots-Tag:noindex
X-PUBLISHED-TTL:PT1H
BEGIN:VTIMEZONE
TZID:UTC
BEGIN:STANDARD
TZOFFSETFROM:+0000
TZOFFSETTO:+0000
TZNAME:UTC
DTSTART:20250101T000000
END:STANDARD
END:VTIMEZONE
BEGIN:VEVENT
DTSTART;TZID=UTC:20260318T180000
DTEND;TZID=UTC:20260318T200000
DTSTAMP:20260419T204805
CREATED:20260221T120940Z
LAST-MODIFIED:20260224T135706Z
UID:10004355-1773856800-1773864000@www.positiveeast.org.uk
SUMMARY:Rainbow Men: Treatment Update
DESCRIPTION:Rainbow Men is our social and support group for gay and bisexual men living with HIV\, including men who have sex with men but don’t identify as gay or bisexual. This group is for you if you are HIV positive and either live in East London or get your HIV care in an East London clinic.  It usually meets on the 3rd Wednesday evening of each month\, but this day and time may vary especially for visits out\, so its best to check these listing regularly. \nThis month\, its an informal treatment update with Liam James\, HIV Clinical Nurse Specialist at Out Patients East . It will be an opportunity to ask questions about  HIV treatment or sexual health care – anything from long-acting injectable HIV treatment\, to gonorrhea vaccines. \nIf travel or care costs are a barrier to taking part\, please let us know in advance. \nFor more information\, or to tell us you’re coming\, contact Nick.Maxwell@positiveeast.org.uk
URL:https://www.positiveeast.org.uk/event/rainbow-men-treatment-update-2/
ATTACH;FMTTYPE=image/webp:https://www.positiveeast.org.uk/wp-content/uploads/2026/02/Liam.webp
END:VEVENT
BEGIN:VEVENT
DTSTART;TZID=UTC:20260321T110000
DTEND;TZID=UTC:20260321T150000
DTSTAMP:20260419T204805
CREATED:20260221T123242Z
LAST-MODIFIED:20260318T084525Z
UID:10004357-1774090800-1774105200@www.positiveeast.org.uk
SUMMARY:Wellbeing Day
DESCRIPTION:Our Spring Open Day takes the form of a Wellbeing Day here at Positive East.  We’re still fine-tuning the details\, but it will include: \n\n11am – Doors open\n11am to 1pm – Exercise planning with our new Gym instructor Ian Jones\n11.30am to 12.30am – Getting Moving with Sarah\n1pm – Lunch alongside Food Chain’s Eating Together guests\n2pm – 3pm Digital Skills guidance with Rob Halpin\n2pm – London Memory Art Workshop with Hera Santos\n2pm – Theatre workshop with Mexican playwright Eduardo Arcelus\n\nIf travel costs are a barrier to you taking part\, get in touch \nAsk any of the Health & Wellbeing Team for more information\, or to let us know you intend to come along\, but there’s no need to book a place\, just come along for all or part of the day
URL:https://www.positiveeast.org.uk/event/wellbeing-day/
ATTACH;FMTTYPE=image/webp:https://www.positiveeast.org.uk/wp-content/uploads/2026/02/wellbeing-day-updated-mar26.webp
END:VEVENT
BEGIN:VEVENT
DTSTART;TZID=UTC:20260325T160000
DTEND;TZID=UTC:20260325T180000
DTSTAMP:20260419T204805
CREATED:20250207T132548Z
LAST-MODIFIED:20260317T140637Z
UID:10003631-1774454400-1774461600@www.positiveeast.org.uk
SUMMARY:Gym Induction for new gym users
DESCRIPTION:Did you know we have a fully equipped spacious gym on our lower ground floor\, with changing rooms\, showers and lockers.  It’s free\, friendly\, fun\, and the perfect way to start your way to a fitter\, healthier you. \nTo use the gym\, you need to be eligible (living or getting your HIV care in East London)\, and have registered to use our services. Also\, it’s essential that you first have an induction session to assess your needs and show you how to use the equipment safely and effectively. \nInduction sessions are usually on the last Wednesday of each month\, at 4pm and 5pm.  If you’ve previously had a gym induction but it was a while ago\, or just want a refresher\, you can book for these too. You also need to bring suitable exercise clothing to wear for your induction\, or you won’t be able to have your induction. \nContact our Reception on our main number 020 7791 2855 to book your induction.
URL:https://www.positiveeast.org.uk/event/gym-induction-for-new-gym-users-3/2026-03-25/
END:VEVENT
BEGIN:VEVENT
DTSTART;TZID=UTC:20260325T180000
DTEND;TZID=UTC:20260325T200000
DTSTAMP:20260419T204805
CREATED:20260221T115817Z
LAST-MODIFIED:20260221T120056Z
UID:10004354-1774461600-1774468800@www.positiveeast.org.uk
SUMMARY:Women's Group: HIV stigma and U=U (Undetectable Equals Untransmittable)
DESCRIPTION:Our Women’s Group is a regular social and support group for women living with HIV who either live in East London or if you get your HIV care in an East London clinic.  It usually meet on the 4th Wednesday evening of each month\, but this day and time may vary especially for visits out\, so its best to check these listing regularly. \nFood will be served around 6.15pm\, and the activities from around 6.45pm. \nThis month\, we’re taking a look at HIV stigma and self-stigma\, and exploring how understanding U=U (Undetectable equals untransmittable) can influence how we – and other people – feel\, with Rebecca Mbewe making a welcome return visit to lead and facilitate discussions. \nIf travel or care costs are a barrier to taking part\, let us know in advance. \nFor more information\, or to tell us you’re coming\, contact Sarah.Boum-Enock@positiveeast.org.uk
URL:https://www.positiveeast.org.uk/event/4489/
ATTACH;FMTTYPE=image/webp:https://www.positiveeast.org.uk/wp-content/uploads/2024/10/Womens-group-sq.webp
END:VEVENT
BEGIN:VEVENT
DTSTART;TZID=UTC:20260401T080000
DTEND;TZID=UTC:20260401T170000
DTSTAMP:20260419T204805
CREATED:20260313T171711Z
LAST-MODIFIED:20260313T171711Z
UID:10004436-1775030400-1775062800@www.positiveeast.org.uk
SUMMARY:April Calendar
DESCRIPTION:
URL:https://www.positiveeast.org.uk/event/april-calendar-2/
ATTACH;FMTTYPE=image/webp:https://www.positiveeast.org.uk/wp-content/uploads/2026/03/April-2026-scaled.webp
END:VEVENT
BEGIN:VEVENT
DTSTART;TZID=UTC:20260402T140000
DTEND;TZID=UTC:20260402T150000
DTSTAMP:20260419T204805
CREATED:20260303T170109Z
LAST-MODIFIED:20260303T170109Z
UID:10004410-1775138400-1775142000@www.positiveeast.org.uk
SUMMARY:Wellbeing Matters: Wellbeing Over 60 taster
DESCRIPTION:Wellbeing Matters is our occasional series of information events focused around health & wellbeing issues for people living with HIV.  Usually\, the topics are ones that are of particular concern to older people living with HIV\, but Wellbeing Matters are open to HIV+ people of any age – because after all\, we can now expect to live well into old age. \nThis time we have news and a taster of a new series of wellbeing workshops for people with HIV aged 60 and over\, starting on Tuesday April 14 \, in collaboration with Globe Community Project \nIf travel costs are a barrier to you coming along\, let us know in advance \nFor more information contact mina.kakaiya@positiveeast.org.uk
URL:https://www.positiveeast.org.uk/event/wellbeing-matters-wellbeing-over-60-taster/
ATTACH;FMTTYPE=image/webp:https://www.positiveeast.org.uk/wp-content/uploads/2026/02/wellbeing_header-photo.webp
END:VEVENT
BEGIN:VEVENT
DTSTART;VALUE=DATE:20260403
DTEND;VALUE=DATE:20260404
DTSTAMP:20260419T204805
CREATED:20260303T164645Z
LAST-MODIFIED:20260303T164645Z
UID:10004406-1775174400-1775260799@www.positiveeast.org.uk
SUMMARY:Closed for Good Friday - Bank Holiday
DESCRIPTION:
URL:https://www.positiveeast.org.uk/event/closed-for-good-friday-bank-holiday/
END:VEVENT
BEGIN:VEVENT
DTSTART;VALUE=DATE:20260406
DTEND;VALUE=DATE:20260407
DTSTAMP:20260419T204805
CREATED:20260303T164744Z
LAST-MODIFIED:20260303T164744Z
UID:10004407-1775433600-1775519999@www.positiveeast.org.uk
SUMMARY:Closed for Easter Monday - Bank Holiday
DESCRIPTION:
URL:https://www.positiveeast.org.uk/event/closed-for-easter-monday-bank-holiday/
END:VEVENT
BEGIN:VEVENT
DTSTART;TZID=UTC:20260408T180000
DTEND;TZID=UTC:20260408T210000
DTSTAMP:20260419T204805
CREATED:20260304T154519Z
LAST-MODIFIED:20260304T154519Z
UID:10004433-1775671200-1775682000@www.positiveeast.org.uk
SUMMARY:Together Group - Movie Night: And the band played on
DESCRIPTION:Together is our social and support group for anyone living with HIV. This group is for you if you are HIV positive and either live in East London or get your HIV care in an East London clinic.  It usually meets on the second Wednesday evening of each month\, but this day and time may vary especially for visits out\, so its best to check these listing regularly. \nThis month\, it’s a movie night with pizza and popcorn\, so it’s e specially extended edition.  The movie is ‘And the band played on’ – A 1993 documentary-drama made in the USA highlighting the story of the discovery of the AIDS epidemic\, and the political infighting of the scientific community hampering the early fight with it. \nDoors open from 6pm and we’ll be looking to start the movie around 6.45pm \nIf travel or care costs are a barrier to taking part\, please let us know in advance. \nFor more information\, or to tell us you’re coming\, contact Sarah.Boum-Enock@positiveeast.org.uk \n\n\n\n\n\n\n\n\n\n\n\n\n\n\n\n\n\n\n\n\n\n\n 
URL:https://www.positiveeast.org.uk/event/together-group-movie-night-and-the-band-played-on/
ATTACH;FMTTYPE=image/webp:https://www.positiveeast.org.uk/wp-content/uploads/2024/10/Together-sq.webp
END:VEVENT
BEGIN:VEVENT
DTSTART;TZID=UTC:20260414T110000
DTEND;TZID=UTC:20260414T133000
DTSTAMP:20260419T204805
CREATED:20260303T171637Z
LAST-MODIFIED:20260303T171637Z
UID:10004411-1776164400-1776173400@www.positiveeast.org.uk
SUMMARY:Wellbeing Over 60
DESCRIPTION:We’re thrilled to be partnering with Globe Community Project to deliver their 6 session Wellbeing Over 60 to people living with HIV who are 60 years old – or very near to approaching 60 – over 6 consecutive Tuesdays \nWellbeing for Over 60 is a free programme that supports older people to grow older with confidence\, connection and joy\, and adjust to aging in a positive way.. \nIn small groups\, participants learn practical wellbeing tools\, build friendships and connect with their community. Designed for those experiencing loneliness\, low mood or declining health\, the programme offers tailored support that meets people where they are and helps them feel more equipped to face whatever life brings. \nIf travel costs are a barrier to you coming along\, let us know in advance. There will be snacks and refreshments provided.  We know that 6 sessions can be a big commitment\, so we ask participants to commit to attend at least 4 of the 6 sessions. \nFor more information contact mina.kakaiya@positiveeast.org.uk
URL:https://www.positiveeast.org.uk/event/wellbeing-over-60/2026-04-14/
ATTACH;FMTTYPE=image/webp:https://www.positiveeast.org.uk/wp-content/uploads/2026/03/Positive-East.webp
END:VEVENT
BEGIN:VEVENT
DTSTART;TZID=UTC:20260415T180000
DTEND;TZID=UTC:20260415T210000
DTSTAMP:20260419T204805
CREATED:20260304T155720Z
LAST-MODIFIED:20260304T155807Z
UID:10004434-1776276000-1776286800@www.positiveeast.org.uk
SUMMARY:Rainbow Men - Movie Night: LGBTQ+ shorts
DESCRIPTION:Rainbow Men is our social and support group for gay and bisexual men living with HIV\, including men who have sex with men but don’t identify as gay or bisexual. This group is for you if you are HIV positive and either live in East London or get your HIV care in an East London clinic.  It usually meets on the 3rd Wednesday evening of each month\, but this day and time may vary especially for visits out\, so its best to check these listing regularly. \nThis month\, it’s a movie night with pizza and popcorn\, so it’s a specially extended edition.  We’re showing a specially selected range of short movies from around the world – all with LGBTQ+ themes \nDoors open from 6pm and we’ll be looking to start the movies around 6.45pm \nIf travel or care costs are a barrier to taking part\, please let us know in advance. \nFor more information\, or to tell us you’re coming\, contact Nick.Maxwell@positiveeast.org.uk
URL:https://www.positiveeast.org.uk/event/rainbow-men-movie-night-lgbtq-shorts/
ATTACH;FMTTYPE=image/png:https://www.positiveeast.org.uk/wp-content/uploads/2024/10/Rainbow-Men.png
END:VEVENT
BEGIN:VEVENT
DTSTART;TZID=UTC:20260418T100000
DTEND;TZID=UTC:20260418T160000
DTSTAMP:20260419T204805
CREATED:20260303T173417Z
LAST-MODIFIED:20260303T173417Z
UID:10004417-1776506400-1776528000@www.positiveeast.org.uk
SUMMARY:Living Well with HIV - 2 part course
DESCRIPTION:Have you been diagnosed with HIV in the last 3 years? The Living Well with HIV Course is an ideal way for you to learn more about HIV\, connect with others\, learn more about sex and relationships and understand about U=U (Undetectable means Untransmittable)\, and discover ways of staying well.  The sessions are delivered in a relaxed and safe environment\, by knowledgeable experts with lived experience. \nThis course will help you deal with your diagnosis and gain the knowledge and tools to live well with HIV. This time\, it’s being run on 2 consecutive Saturdays on 18th and 25th April\, from 10am to 4pm\, with lunch provided. \nIt’s been specially created in a partnership of METRO\, Positive East\, Positively UK and Terrence Higgins Trust – made possible by Fast Track Cities London – who take turns into delivering the course.  If travel or care costs are a barrier to you taking part\, let us know. \nThis time\, the course is being delivered by Positively UK at their building in North London\, supported by Positive East.  To register or find out more contact Susana on 07522 597634 or by email sdeoliveira@positivelyuk.org
URL:https://www.positiveeast.org.uk/event/living-well-with-hiv-2-part-course/2026-04-18/
ATTACH;FMTTYPE=image/webp:https://www.positiveeast.org.uk/wp-content/uploads/2026/03/Learning-to-Live-Well_A5-horizontal_April-2026_V2_digital.webp
END:VEVENT
BEGIN:VEVENT
DTSTART;TZID=UTC:20260422T180000
DTEND;TZID=UTC:20260422T200000
DTSTAMP:20260419T204805
CREATED:20260304T163925Z
LAST-MODIFIED:20260304T164426Z
UID:10004435-1776880800-1776888000@www.positiveeast.org.uk
SUMMARY:Women's Group: How to be a Champion
DESCRIPTION:Our Women’s Group is a regular social and support group for women living with HIV who either live in East London or if you get your HIV care in an East London clinic.  It usually meet on the 4th Wednesday evening of each month\, but this day and time may vary especially for visits out\, so its best to check these listing regularly. \nFood will be served around 6.15pm\, and the activities from around 6.45pm. \nThis month\, we’re taking a look at how you can be an HIV or Women’s Health Champion with some of our HIV Peer Mentors\, and with Positive East’s Pam Menzies Banton and her team of Women 4 Women Champions\, with Rebecca Mbewe making a welcome return visit to lead and facilitate discussions. \nIf travel or care costs are a barrier to taking part\, let us know in advance. \nFor more information\, or to tell us you’re coming\, contact Sarah.Boum-Enock@positiveeast.org.uk
URL:https://www.positiveeast.org.uk/event/womens-group-how-to-be-a-champion/
ATTACH;FMTTYPE=image/webp:https://www.positiveeast.org.uk/wp-content/uploads/2024/10/Womens-group-sq.webp
END:VEVENT
BEGIN:VEVENT
DTSTART;TZID=UTC:20260423T180000
DTEND;TZID=UTC:20260423T210000
DTSTAMP:20260419T204805
CREATED:20260225T163337Z
LAST-MODIFIED:20260311T145947Z
UID:10004360-1776967200-1776978000@www.positiveeast.org.uk
SUMMARY:U=U Community Quilt - Opening reception
DESCRIPTION:Join us on 23 April as we unveil our U=U Community Quilt. Drop in anytime\, RSVP is not required. However\, click here for event reminders. \nOver two years\, Positive East collected thousands of photographs submitted from around the world—from London to Sydney\, Gaborone to Sacramento—to celebrate the U=U message. These images come from people living proudly with an undetectable viral load\, as well as allies who support and champion U=U. The photographs are printed on fabric and arranged to form the powerful statement: U=U. \nAcross eight community stitching sessions\, 174 contributors dedicated more than 1\,200 hours of stitching to transform 4\,000 photographs into three expansive 6’ × 6’ quilt panels. Each individual stitch reflects the diversity and strength of our global community. \nThe U=U Community Quilt stands as a powerful reminder of the strength of our united voice—ensuring that every person remains central to the message of U=U. Each image amplifies this message thousands of times\, creating a collective statement that fully reveals itself only when all contributions are viewed together. \nThe U=U Community Quilt has been crafted with the same love and care as the UK AIDS Memorial Quilt. It allows us to reimagine the AIDS Quilt in the historic era of U=U\, while contributing to a growing and diverse archive of visual and artistic responses to HIV. \nWe hope that you will be able to join us for this very special evening. If you have any questions\, please email ian.montgomery@positiveeast.org.uk \nWhat is U=U? \nWe are in an era of tangible progress in the history of HIV\, with significant medical and scientific advancements evolving rapidly. The shadow that HIV once cast across our communities is beginning to lift. Notions of fear and grief are being replaced with hope and possibility. \nU=U is central to this progress. It means that if you are adhering to your HIV medication and have an undetectable viral load\, it is biologically impossible to pass the virus on sexually. This crucial message helps us break the cycle of HIV stigma and is central to our ambition to eliminate new HIV transmissions by 2030.
URL:https://www.positiveeast.org.uk/event/uu-community-quit-opening-reception/
LOCATION:Positive East\, 159 Mile End Road\, London\, E1 4AQ\, United Kingdom
ATTACH;FMTTYPE=image/webp:https://www.positiveeast.org.uk/wp-content/uploads/2026/02/poster-scaled.webp
END:VEVENT
BEGIN:VEVENT
DTSTART;VALUE=DATE:20260504
DTEND;VALUE=DATE:20260505
DTSTAMP:20260419T204805
CREATED:20260303T164935Z
LAST-MODIFIED:20260303T164935Z
UID:10004408-1777852800-1777939199@www.positiveeast.org.uk
SUMMARY:Closed for Early May Bank Holiday
DESCRIPTION:
URL:https://www.positiveeast.org.uk/event/closed-for-early-may-bank-holiday-2/
END:VEVENT
BEGIN:VEVENT
DTSTART;TZID=UTC:20260506T143000
DTEND;TZID=UTC:20260506T163000
DTSTAMP:20260419T204805
CREATED:20260319T171500Z
LAST-MODIFIED:20260319T171500Z
UID:10004494-1778077800-1778085000@www.positiveeast.org.uk
SUMMARY:Learn My Way - Digital skills sessions
DESCRIPTION:We’ve partnered again with the Good Things Foundation for this third series of sessions to help you gain confidence and skills in using computers. Digital skills & confidence are the foundation of being digitally included. These days you need to know how to use the internet or technology to use public services\, work or stay in touch with loved ones. \nWe’ll be using Good Things Foundation’s Learn My Way resources on their free online platform that helps people gain basic digital skills and build confidence in using the internet.  Come along to any of the sessions – its not a course. You’ll learn at your own pace\, and build on a range of practical online skills across a range of essential topics.  You can find out more here \nWe’ll be guided by Robert Halpin\, Progression Coach from Providence Row\, who has lots of experience in supporting people using Learn My Way. \nFor more information\, contact Mel.Rattue@positiveeast.org.uk
URL:https://www.positiveeast.org.uk/event/learn-my-way-digital-skills-sessions-3/2026-05-06/
ATTACH;FMTTYPE=image/webp:https://www.positiveeast.org.uk/wp-content/uploads/2025/10/learn-my-way-logo.webp
END:VEVENT
BEGIN:VEVENT
DTSTART;TZID=UTC:20260517T160000
DTEND;TZID=UTC:20260517T190000
DTSTAMP:20260419T204805
CREATED:20260407T132643Z
LAST-MODIFIED:20260407T142654Z
UID:10004500-1779033600-1779044400@www.positiveeast.org.uk
SUMMARY:International AIDS Candlelight Memorial Event
DESCRIPTION:Join us for this event – a time for London to remember the many lives lost to HIV and AIDS. \nThe International AIDS Candlelight Memorial\, coordinated by the Global Network of People Living with HIV (GNP+)\, is one of the world’s oldest and largest grassroots mobilisation campaigns for HIV awareness in the world. Started in 1983\, the International AIDS Candlelight Memorial takes place every third Sunday in May and is led by a coalition of community organisations in many countries. \nOur event is open to all\, whether you’re a client of Positive East\, or of another HIV organisation\, living with HIV or not\, or involved in an HIV organisation (staff\, volunteer or trustee). Allies also welcome. \nThe event will include: \n\nDisplay of a range of creative responses by Positive East clients\nDisplay of the U=U Community Quilt\nReadings by Simon Maddrell of poems from their new anthology: Lamping Wild Rabbits\nSpoken word readings of creative writing responses by Positive East clients\nSnacks and drinks\nLaunch of the U=U Garden – a new project in the Positive East Garden\nCandlelight Memorial\n\nFor further details or to let us know you want to come\, contact Jack Summerside jack.summerside@positiveeast.org.uk
URL:https://www.positiveeast.org.uk/event/international-aids-candlelight-memorial-event-2/
ATTACH;FMTTYPE=image/webp:https://www.positiveeast.org.uk/wp-content/uploads/2026/04/memorial-scaled.webp
END:VEVENT
BEGIN:VEVENT
DTSTART;VALUE=DATE:20260525
DTEND;VALUE=DATE:20260526
DTSTAMP:20260419T204805
CREATED:20260303T165316Z
LAST-MODIFIED:20260303T165316Z
UID:10004409-1779667200-1779753599@www.positiveeast.org.uk
SUMMARY:Closed for Spring Bank Holiday
DESCRIPTION:
URL:https://www.positiveeast.org.uk/event/closed-for-spring-bank-holiday-2/
END:VEVENT
END:VCALENDAR